BEGIN:VCALENDAR
VERSION:2.0
PRODID:-//https://lecze-salezjanie.pl///DJ-Events//EN
BEGIN:VEVENT
SUMMARY:+ Rozalia i Antoni Lejmanowicz oraz zmarli z rodziny
UID:1097@https://lecze-salezjanie.pl/
DTSTART:20230723T090000
DTEND:20230723T090000
DTSTAMP:20260422T175649
CATEGORIES:Msza święta
LOCATION:Łęcze 82-340 Łęcze 48
GEO:54.2700545652713;19.468870040475466
DESCRIPTION:
URL:https://lecze-salezjanie.pl//component/djevents/details/2023-07-23/1097-rozalia-i-antoni-lejmanowicz-oraz-zmarli-z-rodziny
END:VEVENT
END:VCALENDAR
