BEGIN:VCALENDAR
VERSION:2.0
PRODID:-//https://lecze-salezjanie.pl///DJ-Events//EN
BEGIN:VEVENT
SUMMARY:O dary Bożej Miłości, zdrowie dla Anny Pankiewicz z okazji imienin
UID:1473@https://lecze-salezjanie.pl/
DTSTART:20230724T180000
DTEND:20230724T180000
DTSTAMP:20260422T175727
CATEGORIES:Msza święta
LOCATION:Łęcze 82-340 Łęcze 48
GEO:54.2700545652713;19.468870040475466
DESCRIPTION:
URL:https://lecze-salezjanie.pl//component/djevents/details/2023-07-24/1473-o-dary-bozej-milosci-zdrowie-dla-anny-pankiewicz-z-okazji-imienin
END:VEVENT
END:VCALENDAR
