BEGIN:VCALENDAR
VERSION:2.0
PRODID:-//https://lecze-salezjanie.pl///DJ-Events//EN
BEGIN:VEVENT
SUMMARY:O dary Bożej Miłości i zdrowie dla Anny Sawickiej z okazji imienin
UID:1501@https://lecze-salezjanie.pl/
DTSTART:20230725T170000
DTEND:20230725T170000
DTSTAMP:20260422T175857
CATEGORIES:Msza święta
LOCATION:Suchacz 82-340 Kielecka 14
GEO:54.2856461944789;19.44132685661316
DESCRIPTION:
URL:https://lecze-salezjanie.pl//component/djevents/details/2023-07-25/1501-o-dary-bozej-milosci-i-zdrowie-dla-anny-sawickiej-z-okazji-imienin
END:VEVENT
END:VCALENDAR
