BEGIN:VCALENDAR
VERSION:2.0
PRODID:-//https://lecze-salezjanie.pl///DJ-Events//EN
BEGIN:VEVENT
SUMMARY:O łaskę wiary, Boże Błogosławieństwo, uzdrowienie duszy i ciała dla Wojtka, Marcina i ich rodzin
UID:1008@https://lecze-salezjanie.pl/
DTSTART:20230726T180000
DTEND:20230726T180000
DTSTAMP:20260422T175856
CATEGORIES:Msza święta
LOCATION:Łęcze 82-340 Łęcze 48
GEO:54.2700545652713;19.468870040475466
DESCRIPTION:
URL:https://lecze-salezjanie.pl//component/djevents/details/2023-07-26/1008-o-laske-wiary-boze-blogoslawienstwo-uzdrowienie-duszy-i-ciala-dla-wojtka-marcina-i-ich-rodzin-3
END:VEVENT
END:VCALENDAR
