BEGIN:VCALENDAR
VERSION:2.0
PRODID:-//https://lecze-salezjanie.pl///DJ-Events//EN
BEGIN:VEVENT
SUMMARY:Zmarli z rodziny Gawrońskich: Wacław, Gabriela, Anna, Aleksandra i Gabrysia
UID:1098@https://lecze-salezjanie.pl/
DTSTART:20230730T090000
DTEND:20230730T090000
DTSTAMP:20260422T155515
CATEGORIES:Msza święta
LOCATION:Łęcze 82-340 Łęcze 48
GEO:54.2700545652713;19.468870040475466
DESCRIPTION:
URL:https://lecze-salezjanie.pl//component/djevents/details/2023-07-30/1098-zmarli-z-rodziny-gawronskich-waclaw-gabriela-anna-aleksandra-i-gabrysia
END:VEVENT
END:VCALENDAR
