BEGIN:VCALENDAR
VERSION:2.0
PRODID:-//https://lecze-salezjanie.pl///DJ-Events//EN
BEGIN:VEVENT
SUMMARY:O Dary Ducha Świętego, zdrowie i nieustanną opiekę Matki Bożej dla Dawida z okazji 11 urodzin
UID:1502@https://lecze-salezjanie.pl/
DTSTART:20230801T170000
DTEND:20230801T170000
DTSTAMP:20260422T155606
CATEGORIES:Msza święta
LOCATION:Suchacz 82-340 Kielecka 14
GEO:54.2856461944789;19.44132685661316
DESCRIPTION:
URL:https://lecze-salezjanie.pl//component/djevents/details/2023-08-01/1502-o-dary-ducha-swietego-zdrowie-i-nieustanna-opieke-matki-bozej-dla-dawida-z-okazji-11-urodzin
END:VEVENT
END:VCALENDAR
