BEGIN:VCALENDAR
VERSION:2.0
PRODID:-//https://lecze-salezjanie.pl///DJ-Events//EN
BEGIN:VEVENT
SUMMARY:+ Maria Depka - w miesiąc po śmierci
UID:1524@https://lecze-salezjanie.pl/
DTSTART:20230803T170000
DTEND:20230803T170000
DTSTAMP:20260422T155415
CATEGORIES:Msza święta
LOCATION:Suchacz 82-340 Kielecka 14
GEO:54.2856461944789;19.44132685661316
DESCRIPTION:
URL:https://lecze-salezjanie.pl//component/djevents/details/2023-08-03/1524-maria-depka-w-miesiac-po-smierci
END:VEVENT
END:VCALENDAR
