BEGIN:VCALENDAR
VERSION:2.0
PRODID:-//https://lecze-salezjanie.pl///DJ-Events//EN
BEGIN:VEVENT
SUMMARY:O dary Bożej Miłości i opiekę Matki Bożej dla dzieci
UID:1533@https://lecze-salezjanie.pl/
DTSTART:20230804T170000
DTEND:20230804T170000
DTSTAMP:20260422T155449
CATEGORIES:Msza święta
LOCATION:Suchacz 82-340 Kielecka 14
GEO:54.2856461944789;19.44132685661316
DESCRIPTION:
URL:https://lecze-salezjanie.pl//component/djevents/details/2023-08-04/1533-o-dary-bozej-milosci-i-opieke-matki-bozej-dla-dzieci
END:VEVENT
END:VCALENDAR
