BEGIN:VCALENDAR
VERSION:2.0
PRODID:-//https://lecze-salezjanie.pl///DJ-Events//EN
BEGIN:VEVENT
SUMMARY:Zmarli z rodziny Rakoczych: Czesław, Janina, Wiesława, Zbigniew, Zygmunt oraz wnuczka Gabrysia
UID:1099@https://lecze-salezjanie.pl/
DTSTART:20230806T090000
DTEND:20230806T090000
DTSTAMP:20260422T141123
CATEGORIES:Msza święta
LOCATION:Łęcze 82-340 Łęcze 48
GEO:54.2700545652713;19.468870040475466
DESCRIPTION:
URL:https://lecze-salezjanie.pl//component/djevents/details/2023-08-06/1099-zmarli-z-rodziny-rakoczych-czeslaw-janina-wieslawa-zbigniew-zygmunt-oraz-wnuczka-gabrysia
END:VEVENT
END:VCALENDAR
