BEGIN:VCALENDAR
VERSION:2.0
PRODID:-//https://lecze-salezjanie.pl///DJ-Events//EN
BEGIN:VEVENT
SUMMARY:+ Helena i Jan Sylwestrzak i rodzice z obojga stron
UID:1243@https://lecze-salezjanie.pl/
DTSTART:20230806T103000
DTEND:20230806T103000
DTSTAMP:20260422T140955
CATEGORIES:Msza święta
LOCATION:Suchacz 82-340 Kielecka 14
GEO:54.2856461944789;19.44132685661316
DESCRIPTION:
URL:https://lecze-salezjanie.pl//component/djevents/details/2023-08-06/1243-helena-i-jan-sylwestrzak-i-rodzice-z-obojga-stron
END:VEVENT
END:VCALENDAR
