BEGIN:VCALENDAR
VERSION:2.0
PRODID:-//https://lecze-salezjanie.pl///DJ-Events//EN
BEGIN:VEVENT
SUMMARY:+ Józef Stasiak - z ofiar pogrzebu
UID:1536@https://lecze-salezjanie.pl/
DTSTART:20230812T180000
DTEND:20230812T180000
DTSTAMP:20260422T140956
CATEGORIES:Msza święta
LOCATION:Łęcze 82-340 Łęcze 48
GEO:54.2700545652713;19.468870040475466
DESCRIPTION:
URL:https://lecze-salezjanie.pl//component/djevents/details/2023-08-12/1536-jozef-stasiak-z-ofiar-pogrzebu-1
END:VEVENT
END:VCALENDAR
