BEGIN:VCALENDAR
VERSION:2.0
PRODID:-//https://lecze-salezjanie.pl///DJ-Events//EN
BEGIN:VEVENT
SUMMARY:+ Alfred Gruchalski i za zmarłych rodziców z obojga stron
UID:1100@https://lecze-salezjanie.pl/
DTSTART:20230813T090000
DTEND:20230813T090000
DTSTAMP:20260422T123716
CATEGORIES:Msza święta
LOCATION:Łęcze 82-340 Łęcze 48
GEO:54.2700545652713;19.468870040475466
DESCRIPTION:
URL:https://lecze-salezjanie.pl//component/djevents/details/2023-08-13/1100-alfred-gruchalski-i-za-zmarlych-rodzicow-z-obojga-stron-1
END:VEVENT
END:VCALENDAR
