BEGIN:VCALENDAR
VERSION:2.0
PRODID:-//https://lecze-salezjanie.pl///DJ-Events//EN
BEGIN:VEVENT
SUMMARY:+ Zofia i Józef Prątniccy oraz Andrzej Rakowski
UID:1414@https://lecze-salezjanie.pl/
DTSTART:20230813T103000
DTEND:20230813T103000
DTSTAMP:20260422T123617
CATEGORIES:Msza święta
LOCATION:Suchacz 82-340 Kielecka 14
GEO:54.2856461944789;19.44132685661316
DESCRIPTION:
URL:https://lecze-salezjanie.pl//component/djevents/details/2023-08-13/1414-zofia-i-jozef-pratniccy-oraz-andrzej-rakowski
END:VEVENT
END:VCALENDAR
