BEGIN:VCALENDAR
VERSION:2.0
PRODID:-//https://lecze-salezjanie.pl///DJ-Events//EN
BEGIN:VEVENT
SUMMARY:Zmarli z rodziny Matysiak i Zofia Wrześniewska
UID:1415@https://lecze-salezjanie.pl/
DTSTART:20230815T103000
DTEND:20230815T103000
DTSTAMP:20260422T123701
CATEGORIES:Msza święta
LOCATION:Suchacz 82-340 Kielecka 14
GEO:54.2856461944789;19.44132685661316
DESCRIPTION:
URL:https://lecze-salezjanie.pl//component/djevents/details/2023-08-15/1415-zmarli-z-rodziny-matysiak-i-zofia-wrzesniewska
END:VEVENT
END:VCALENDAR
