BEGIN:VCALENDAR
VERSION:2.0
PRODID:-//https://lecze-salezjanie.pl///DJ-Events//EN
BEGIN:VEVENT
SUMMARY:+ Adam Krupa
UID:1538@https://lecze-salezjanie.pl/
DTSTART:20230818T180000
DTEND:20230818T180000
DTSTAMP:20260422T123412
CATEGORIES:Msza święta
LOCATION:Łęcze 82-340 Łęcze 48
GEO:54.2700545652713;19.468870040475466
DESCRIPTION:
URL:https://lecze-salezjanie.pl//component/djevents/details/2023-08-18/1538-adam-krupa-1
END:VEVENT
END:VCALENDAR
