BEGIN:VCALENDAR
VERSION:2.0
PRODID:-//https://lecze-salezjanie.pl///DJ-Events//EN
BEGIN:VEVENT
SUMMARY:+ Eugeniusz, zmarli rodzice z obydwu stron, siostry i Czesław
UID:1476@https://lecze-salezjanie.pl/
DTSTART:20230820T090000
DTEND:20230820T090000
DTSTAMP:20260422T110914
CATEGORIES:Msza święta
LOCATION:Łęcze 82-340 Łęcze 48
GEO:54.2700545652713;19.468870040475466
DESCRIPTION:
URL:https://lecze-salezjanie.pl//component/djevents/details/2023-08-20/1476-eugeniusz-zmarli-rodzice-z-obydwu-stron-siostry-i-czeslaw
END:VEVENT
END:VCALENDAR
