BEGIN:VCALENDAR
VERSION:2.0
PRODID:-//https://lecze-salezjanie.pl///DJ-Events//EN
BEGIN:VEVENT
SUMMARY:Dziękczynna, z prośbą o Dary Ducha Świętego oraz opiekę Matki Bożej i świętego Józefa w dalszym życiu dla Rysi i Michała
UID:1525@https://lecze-salezjanie.pl/
DTSTART:20230820T103000
DTEND:20230820T103000
DTSTAMP:20260422T110653
CATEGORIES:Msza święta
LOCATION:Suchacz 82-340 Kielecka 14
GEO:54.2856461944789;19.44132685661316
DESCRIPTION:
URL:https://lecze-salezjanie.pl//component/djevents/details/2023-08-20/1525-dziekczynna-z-prosba-o-dary-ducha-swietego-oraz-opieke-matki-bozej-i-swietego-jozefa-w-dalszym-zyciu-dla-rysi-i-michala
END:VEVENT
END:VCALENDAR
