BEGIN:VCALENDAR
VERSION:2.0
PRODID:-//https://lecze-salezjanie.pl///DJ-Events//EN
BEGIN:VEVENT
SUMMARY:+ Waldemar Postek i za zmarłych z rodziny
UID:1504@https://lecze-salezjanie.pl/
DTSTART:20230822T170000
DTEND:20230822T170000
DTSTAMP:20260422T110226
CATEGORIES:Msza święta
LOCATION:Suchacz 82-340 Kielecka 14
GEO:54.2856461944789;19.44132685661316
DESCRIPTION:
URL:https://lecze-salezjanie.pl//component/djevents/details/2023-08-22/1504-waldemar-postek-i-za-zmarlych-z-rodziny
END:VEVENT
END:VCALENDAR
