BEGIN:VCALENDAR
VERSION:2.0
PRODID:-//https://lecze-salezjanie.pl///DJ-Events//EN
BEGIN:VEVENT
SUMMARY:+ Edmund i Łukasz Chodulscy, zmarli rodzice z obojga stron, + Bronisław i zmarli z rodziny Żurawskich
UID:1540@https://lecze-salezjanie.pl/
DTSTART:20230824T180000
DTEND:20230824T180000
DTSTAMP:20260422T110720
CATEGORIES:Msza święta
LOCATION:Łęcze 82-340 Łęcze 48
GEO:54.2700545652713;19.468870040475466
DESCRIPTION:
URL:https://lecze-salezjanie.pl//component/djevents/details/2023-08-24/1540-edmund-i-lukasz-chodulscy-zmarli-rodzice-z-obojga-stron-bronislaw-i-zmarli-z-rodziny-zurawskich
END:VEVENT
END:VCALENDAR
