BEGIN:VCALENDAR
VERSION:2.0
PRODID:-//https://lecze-salezjanie.pl///DJ-Events//EN
BEGIN:VEVENT
SUMMARY:O dary Bożej Miłości, zdrowie i nieustanną opiekę Matki Bożej dla Marzeny i Stanisława Harasimowiczów oraz ich dzieci i wnuków
UID:1541@https://lecze-salezjanie.pl/
DTSTART:20230825T180000
DTEND:20230825T180000
DTSTAMP:20260422T110651
CATEGORIES:Msza święta
LOCATION:Łęcze 82-340 Łęcze 48
GEO:54.2700545652713;19.468870040475466
DESCRIPTION:
URL:https://lecze-salezjanie.pl//component/djevents/details/2023-08-25/1541-o-dary-bozej-milosci-zdrowie-i-nieustanna-opieke-matki-bozej-dla-marzeny-i-stanislawa-harasimowiczow-oraz-ich-dzieci-i-wnukow
END:VEVENT
END:VCALENDAR
