BEGIN:VCALENDAR
VERSION:2.0
PRODID:-//https://lecze-salezjanie.pl///DJ-Events//EN
BEGIN:VEVENT
SUMMARY:+ Czesław Gajc - w 2 rocznicę śmierci
UID:1014@https://lecze-salezjanie.pl/
DTSTART:20230827T090000
DTEND:20230827T090000
DTSTAMP:20260420T090310
CATEGORIES:Msza święta
LOCATION:Łęcze 82-340 Łęcze 48
GEO:54.2700545652713;19.468870040475466
DESCRIPTION:
URL:https://lecze-salezjanie.pl//component/djevents/details/2023-08-27/1014-czeslaw-gajc-w-2-rocznice-smierci
END:VEVENT
END:VCALENDAR
