BEGIN:VCALENDAR
VERSION:2.0
PRODID:-//https://lecze-salezjanie.pl///DJ-Events//EN
BEGIN:VEVENT
SUMMARY:+ Ewa i Czesław Maszkowscy raz Janina, Mieczysław i Henryk Manowscy
UID:1546@https://lecze-salezjanie.pl/
DTSTART:20230830T180000
DTEND:20230830T180000
DTSTAMP:20260420T091041
CATEGORIES:Msza święta
LOCATION:Łęcze 82-340 Łęcze 48
GEO:54.2700545652713;19.468870040475466
DESCRIPTION:
URL:https://lecze-salezjanie.pl//component/djevents/details/2023-08-30/1546-ewa-i-czeslaw-maszkowscy-raz-janina-mieczyslaw-i-henryk-manowscy-1
END:VEVENT
END:VCALENDAR
