BEGIN:VCALENDAR
VERSION:2.0
PRODID:-//https://lecze-salezjanie.pl///DJ-Events//EN
BEGIN:VEVENT
SUMMARY:Za zmarłych polecanych w Wypominkach
UID:1244@https://lecze-salezjanie.pl/
DTSTART:20230901T170000
DTEND:20230901T170000
DTSTAMP:20260420T090332
CATEGORIES:Msza święta
LOCATION:Suchacz 82-340 Kielecka 14
GEO:54.2856461944789;19.44132685661316
DESCRIPTION:
URL:https://lecze-salezjanie.pl//component/djevents/details/2023-09-01/1244-za-zmarlych-polecanych-w-wypominkach-2
END:VEVENT
END:VCALENDAR
