BEGIN:VCALENDAR
VERSION:2.0
PRODID:-//https://lecze-salezjanie.pl///DJ-Events//EN
BEGIN:VEVENT
SUMMARY:+ Irena i Wacław - Msza święta Gregoriańska (2)
UID:1102@https://lecze-salezjanie.pl/
DTSTART:20230902T180000
DTEND:20230902T180000
DTSTAMP:20260420T091717
CATEGORIES:Msza święta
LOCATION:Łęcze 82-340 Łęcze 48
GEO:54.2700545652713;19.468870040475466
DESCRIPTION:
URL:https://lecze-salezjanie.pl//component/djevents/details/2023-09-02/1102-irena-i-waclaw-msza-swieta-gregorianska-2
END:VEVENT
END:VCALENDAR
