BEGIN:VCALENDAR
VERSION:2.0
PRODID:-//https://lecze-salezjanie.pl///DJ-Events//EN
BEGIN:VEVENT
SUMMARY:W intencji Koła Żywego Różańca
UID:1103@https://lecze-salezjanie.pl/
DTSTART:20230902T180000
DTEND:20230902T180000
DTSTAMP:20260420T090952
CATEGORIES:Msza święta
LOCATION:Łęcze 82-340 Łęcze 48
GEO:54.2700545652713;19.468870040475466
DESCRIPTION:
URL:https://lecze-salezjanie.pl//component/djevents/details/2023-09-02/1103-w-intencji-kola-zywego-rozanca-2
END:VEVENT
END:VCALENDAR
