BEGIN:VCALENDAR
VERSION:2.0
PRODID:-//https://lecze-salezjanie.pl///DJ-Events//EN
BEGIN:VEVENT
SUMMARY:+ Józef i Anna Maciuńscy, Tadeusz Lech, Andrzej, Jadwiga, Wacław i wszyscy zmarli z rodziny Maciuńskich, Rymszów i Januszko
UID:1588@https://lecze-salezjanie.pl/
DTSTART:20230903T090000
DTEND:20230903T090000
DTSTAMP:20260420T073816
CATEGORIES:Msza święta
LOCATION:Suchacz 82-340 Kielecka 14
GEO:54.2856461944789;19.44132685661316
DESCRIPTION:
URL:https://lecze-salezjanie.pl//component/djevents/details/2023-09-03/1588-jozef-i-anna-maciunscy-tadeusz-lech-andrzej-jadwiga-waclaw-i-wszyscy-zmarli-z-rodziny-maciunskich-rymszow-i-januszko
END:VEVENT
END:VCALENDAR
