BEGIN:VCALENDAR
VERSION:2.0
PRODID:-//https://lecze-salezjanie.pl///DJ-Events//EN
BEGIN:VEVENT
SUMMARY:O Dary Ducha Świętego i Boże Błogosławieństwo dla dzieci, młodzieży i pracowników Szkoły w Suchaczu w rozpoczynającym się Roku Szkolnym
UID:1589@https://lecze-salezjanie.pl/
DTSTART:20230903T103000
DTEND:20230903T103000
DTSTAMP:20260420T073816
CATEGORIES:Msza święta
LOCATION:Suchacz 82-340 Kielecka 14
GEO:54.2856461944789;19.44132685661316
DESCRIPTION:
URL:https://lecze-salezjanie.pl//component/djevents/details/2023-09-03/1589-o-dary-ducha-swietego-i-boze-blogoslawienstwo-dla-dzieci-mlodziezy-i-pracownikow-szkoly-w-suchaczu-w-rozpoczynajacym-sie-roku-szkolnym
END:VEVENT
END:VCALENDAR
