BEGIN:VCALENDAR
VERSION:2.0
PRODID:-//https://lecze-salezjanie.pl///DJ-Events//EN
BEGIN:VEVENT
SUMMARY:Rozpoczęcie Roku Szkolnego
UID:1547@https://lecze-salezjanie.pl/
DTSTART:20230904T081500
DTEND:20230904T081500
DTSTAMP:20260420T073053
CATEGORIES:Msza święta
LOCATION:Łęcze 82-340 Łęcze 48
GEO:54.2700545652713;19.468870040475466
DESCRIPTION:
URL:https://lecze-salezjanie.pl//component/djevents/details/2023-09-04/1547-rozpoczecie-roku-szkolnego
END:VEVENT
END:VCALENDAR
