BEGIN:VCALENDAR
VERSION:2.0
PRODID:-//https://lecze-salezjanie.pl///DJ-Events//EN
BEGIN:VEVENT
SUMMARY:Dziękczynna, z prośbą o Dary Ducha Świętego dla dzieci i wnuków w roku szkolnym
UID:1505@https://lecze-salezjanie.pl/
DTSTART:20230905T170000
DTEND:20230905T170000
DTSTAMP:20260420T073714
CATEGORIES:Msza święta
LOCATION:Suchacz 82-340 Kielecka 14
GEO:54.2856461944789;19.44132685661316
DESCRIPTION:
URL:https://lecze-salezjanie.pl//component/djevents/details/2023-09-05/1505-dziekczynna-z-prosba-o-dary-ducha-swietego-dla-dzieci-i-wnukow-w-roku-szkolnym
END:VEVENT
END:VCALENDAR
