BEGIN:VCALENDAR
VERSION:2.0
PRODID:-//https://lecze-salezjanie.pl///DJ-Events//EN
BEGIN:VEVENT
SUMMARY:+ Sławomir Milewski
UID:1548@https://lecze-salezjanie.pl/
DTSTART:20230907T120000
DTEND:20230907T120000
DTSTAMP:20260420T072858
CATEGORIES:Pogrzeb
LOCATION:Łęcze 82-340 Łęcze 48
GEO:54.2700545652713;19.468870040475466
DESCRIPTION:
URL:https://lecze-salezjanie.pl//component/djevents/details/2023-09-07/1548-slawomir-milewski
END:VEVENT
END:VCALENDAR
