BEGIN:VCALENDAR
VERSION:2.0
PRODID:-//https://lecze-salezjanie.pl///DJ-Events//EN
BEGIN:VEVENT
SUMMARY:+ Krystyna Piotrowska - z ofiar pogrzebu
UID:1590@https://lecze-salezjanie.pl/
DTSTART:20230907T170000
DTEND:20230907T170000
DTSTAMP:20260420T073052
CATEGORIES:Msza święta
LOCATION:Suchacz 82-340 Kielecka 14
GEO:54.2856461944789;19.44132685661316
DESCRIPTION:
URL:https://lecze-salezjanie.pl//component/djevents/details/2023-09-07/1590-krystyna-piotrowska-z-ofiar-pogrzebu-2
END:VEVENT
END:VCALENDAR
