BEGIN:VCALENDAR
VERSION:2.0
PRODID:-//https://lecze-salezjanie.pl///DJ-Events//EN
BEGIN:VEVENT
SUMMARY:Dziękczynna, z prośbą o Boże Błogosławieństwo w pracach gospodarczych, opiekę Matki Bożej, dobro i pomyślność
UID:1591@https://lecze-salezjanie.pl/
DTSTART:20230908T170000
DTEND:20230908T170000
DTSTAMP:20260420T091041
CATEGORIES:Msza święta
LOCATION:Suchacz 82-340 Kielecka 14
GEO:54.2856461944789;19.44132685661316
DESCRIPTION:
URL:https://lecze-salezjanie.pl//component/djevents/details/2023-09-08/1591-dziekczynna-z-prosba-o-boze-blogoslawienstwo-w-pracach-gospodarczych-opieke-matki-bozej-dobro-i-pomyslnosc
END:VEVENT
END:VCALENDAR
