BEGIN:VCALENDAR
VERSION:2.0
PRODID:-//https://lecze-salezjanie.pl///DJ-Events//EN
BEGIN:VEVENT
SUMMARY:+ Zofia i Zenon Gajłamowicz
UID:1110@https://lecze-salezjanie.pl/
DTSTART:20230910T090000
DTEND:20230910T090000
DTSTAMP:20260420T041212
CATEGORIES:Msza święta
LOCATION:Łęcze 82-340 Łęcze 48
GEO:54.2700545652713;19.468870040475466
DESCRIPTION:
URL:https://lecze-salezjanie.pl//component/djevents/details/2023-09-10/1110-zofia-i-zenon-gajlamowicz
END:VEVENT
END:VCALENDAR
