BEGIN:VCALENDAR
VERSION:2.0
PRODID:-//https://lecze-salezjanie.pl///DJ-Events//EN
BEGIN:VEVENT
SUMMARY:O Boże Błogosławieństwo, zdrowie i opiekę Matki Bożej dla Jacka w 50 urodziny
UID:1592@https://lecze-salezjanie.pl/
DTSTART:20230910T103000
DTEND:20230910T103000
DTSTAMP:20260420T073714
CATEGORIES:Msza święta
LOCATION:Suchacz 82-340 Kielecka 14
GEO:54.2856461944789;19.44132685661316
DESCRIPTION:
URL:https://lecze-salezjanie.pl//component/djevents/details/2023-09-10/1592-o-boze-blogoslawienstwo-zdrowie-i-opieke-matki-bozej-dla-jacka-w-50-urodziny
END:VEVENT
END:VCALENDAR
