BEGIN:VCALENDAR
VERSION:2.0
PRODID:-//https://lecze-salezjanie.pl///DJ-Events//EN
BEGIN:VEVENT
SUMMARY:+ Irena i Wacław - Msza święta Gregoriańska (11)
UID:1111@https://lecze-salezjanie.pl/
DTSTART:20230911T180000
DTEND:20230911T180000
DTSTAMP:20260420T060827
CATEGORIES:Msza święta
LOCATION:Łęcze 82-340 Łęcze 48
GEO:54.2700545652713;19.468870040475466
DESCRIPTION:
URL:https://lecze-salezjanie.pl//component/djevents/details/2023-09-11/1111-irena-i-waclaw-msza-swieta-gregorianska-11
END:VEVENT
END:VCALENDAR
