BEGIN:VCALENDAR
VERSION:2.0
PRODID:-//https://lecze-salezjanie.pl///DJ-Events//EN
BEGIN:VEVENT
SUMMARY:+ Irena i Wacław - Msza święta Gregoriańska (14)
UID:1249@https://lecze-salezjanie.pl/
DTSTART:20230914T170000
DTEND:20230914T170000
DTSTAMP:20260420T060827
CATEGORIES:Msza święta
LOCATION:Suchacz 82-340 Kielecka 14
GEO:54.2856461944789;19.44132685661316
DESCRIPTION:
URL:https://lecze-salezjanie.pl//component/djevents/details/2023-09-14/1249-irena-i-waclaw-msza-swieta-gregorianska-14
END:VEVENT
END:VCALENDAR
