BEGIN:VCALENDAR
VERSION:2.0
PRODID:-//https://lecze-salezjanie.pl///DJ-Events//EN
BEGIN:VEVENT
SUMMARY:O Boże Błogosławieństwo, opiekę Świętej Rodziny i Anioła Stróża w 7 rocznicę urodzin Ignasia
UID:1550@https://lecze-salezjanie.pl/
DTSTART:20230916T180000
DTEND:20230916T180000
DTSTAMP:20260420T073821
CATEGORIES:Msza święta
LOCATION:Łęcze 82-340 Łęcze 48
GEO:54.2700545652713;19.468870040475466
DESCRIPTION:
URL:https://lecze-salezjanie.pl//component/djevents/details/2023-09-16/1550-o-boze-blogoslawienstwo-opieke-swietej-rodziny-i-aniola-stroza-w-7-rocznice-urodzin-ignasia
END:VEVENT
END:VCALENDAR
