BEGIN:VCALENDAR
VERSION:2.0
PRODID:-//https://lecze-salezjanie.pl///DJ-Events//EN
BEGIN:VEVENT
SUMMARY:+ Edwarda Gruchalska - w 9 rocznicę śmierci i zmarłych z rodziny
UID:1481@https://lecze-salezjanie.pl/
DTSTART:20230917T120000
DTEND:20230917T120000
DTSTAMP:20260420T041329
CATEGORIES:Msza święta
LOCATION:Łęcze 82-340 Łęcze 48
GEO:54.2700545652713;19.468870040475466
DESCRIPTION:
URL:https://lecze-salezjanie.pl//component/djevents/details/2023-09-17/1481-edwarda-gruchalska-w-9-rocznice-smierci-i-zmarlych-z-rodziny
END:VEVENT
END:VCALENDAR
