BEGIN:VCALENDAR
VERSION:2.0
PRODID:-//https://lecze-salezjanie.pl///DJ-Events//EN
BEGIN:VEVENT
SUMMARY:Dziękczynna, z prośbą o Boże Błogosławieństwo, opiekę Matki Bożej i św. Józefa na dalsze lata życia dla Barbary, Piotra i całej rodziny z okazji 30 rocznicy ślubu
UID:1596@https://lecze-salezjanie.pl/
DTSTART:20230917T090000
DTEND:20230917T090000
DTSTAMP:20260420T022005
CATEGORIES:Msza święta
LOCATION:Suchacz 82-340 Kielecka 14
GEO:54.2856461944789;19.44132685661316
DESCRIPTION:
URL:https://lecze-salezjanie.pl//component/djevents/details/2023-09-17/1596-dziekczynna-z-prosba-o-boze-blogoslawienstwo-opieke-matki-bozej-i-sw-jozefa-na-dalsze-lata-zycia-dla-barbary-piotra-i-calej-rodziny-z-okazji-30-rocznicy-slubu
END:VEVENT
END:VCALENDAR
