BEGIN:VCALENDAR
VERSION:2.0
PRODID:-//https://lecze-salezjanie.pl///DJ-Events//EN
BEGIN:VEVENT
SUMMARY:+ Zbigniew i Józef Pręcikowscy
UID:1597@https://lecze-salezjanie.pl/
DTSTART:20230917T103000
DTEND:20230917T103000
DTSTAMP:20260420T022050
CATEGORIES:Msza święta
LOCATION:Suchacz 82-340 Kielecka 14
GEO:54.2856461944789;19.44132685661316
DESCRIPTION:
URL:https://lecze-salezjanie.pl//component/djevents/details/2023-09-17/1597-zbigniew-i-jozef-precikowscy
END:VEVENT
END:VCALENDAR
