BEGIN:VCALENDAR
VERSION:2.0
PRODID:-//https://lecze-salezjanie.pl///DJ-Events//EN
BEGIN:VEVENT
SUMMARY:+ Sławomir Milewski
UID:1630@https://lecze-salezjanie.pl/
DTSTART:20230917T120000
DTEND:20230917T120000
DTSTAMP:20260420T041007
CATEGORIES:Msza święta
LOCATION:Kamionek Wielki 82-340 Kamionek Wielki 5
GEO:54.262029131955885;19.404954271163948
DESCRIPTION:
URL:https://lecze-salezjanie.pl//component/djevents/details/2023-09-17/1630-slawomir-milewski-1
END:VEVENT
END:VCALENDAR
