BEGIN:VCALENDAR
VERSION:2.0
PRODID:-//https://lecze-salezjanie.pl///DJ-Events//EN
BEGIN:VEVENT
SUMMARY:+ Irena i Wacław - Msza święta Gregoriańska (21)
UID:1251@https://lecze-salezjanie.pl/
DTSTART:20230921T170000
DTEND:20230921T170000
DTSTAMP:20260420T041206
CATEGORIES:Msza święta
LOCATION:Suchacz 82-340 Kielecka 14
GEO:54.2856461944789;19.44132685661316
DESCRIPTION:
URL:https://lecze-salezjanie.pl//component/djevents/details/2023-09-21/1251-irena-i-waclaw-msza-swieta-gregorianska-21
END:VEVENT
END:VCALENDAR
