BEGIN:VCALENDAR
VERSION:2.0
PRODID:-//https://lecze-salezjanie.pl///DJ-Events//EN
BEGIN:VEVENT
SUMMARY:+ Michał Murszewski - w 3 rocznicę śmierci
UID:1120@https://lecze-salezjanie.pl/
DTSTART:20230924T120000
DTEND:20230924T120000
DTSTAMP:20260420T004607
CATEGORIES:Msza święta
LOCATION:Łęcze 82-340 Łęcze 48
GEO:54.2700545652713;19.468870040475466
DESCRIPTION:
URL:https://lecze-salezjanie.pl//component/djevents/details/2023-09-24/1120-michal-murszewski-w-3-rocznice-smierci
END:VEVENT
END:VCALENDAR
