BEGIN:VCALENDAR
VERSION:2.0
PRODID:-//https://lecze-salezjanie.pl///DJ-Events//EN
BEGIN:VEVENT
SUMMARY:+ Łukasz Chodulski - w 1 rocznicę śmierci
UID:1629@https://lecze-salezjanie.pl/
DTSTART:20230924T090000
DTEND:20230924T090000
DTSTAMP:20260420T003856
CATEGORIES:Msza święta
LOCATION:Łęcze 82-340 Łęcze 48
GEO:54.2700545652713;19.468870040475466
DESCRIPTION:
URL:https://lecze-salezjanie.pl//component/djevents/details/2023-09-24/1629-lukasz-chodulski-w-1-rocznice-smierci
END:VEVENT
END:VCALENDAR
