BEGIN:VCALENDAR
VERSION:2.0
PRODID:-//https://lecze-salezjanie.pl///DJ-Events//EN
BEGIN:VEVENT
SUMMARY:+ Irena i Wacław - Msza święta Gregoriańska (26)
UID:1253@https://lecze-salezjanie.pl/
DTSTART:20230926T170000
DTEND:20230926T170000
DTSTAMP:20260420T005225
CATEGORIES:Msza święta
LOCATION:Suchacz 82-340 Kielecka 14
GEO:54.2856461944789;19.44132685661316
DESCRIPTION:
URL:https://lecze-salezjanie.pl//component/djevents/details/2023-09-26/1253-irena-i-waclaw-msza-swieta-gregorianska-26
END:VEVENT
END:VCALENDAR
