BEGIN:VCALENDAR
VERSION:2.0
PRODID:-//https://lecze-salezjanie.pl///DJ-Events//EN
BEGIN:VEVENT
SUMMARY:+ Maria Pawlak
UID:1256@https://lecze-salezjanie.pl/
DTSTART:20231001T090000
DTEND:20231001T090000
DTSTAMP:20260419T225614
CATEGORIES:Msza święta
LOCATION:Suchacz 82-340 Kielecka 14
GEO:54.2856461944789;19.44132685661316
DESCRIPTION:
URL:https://lecze-salezjanie.pl//component/djevents/details/2023-10-01/1256-maria-pawlak-1
END:VEVENT
END:VCALENDAR
