BEGIN:VCALENDAR
VERSION:2.0
PRODID:-//https://lecze-salezjanie.pl///DJ-Events//EN
BEGIN:VEVENT
SUMMARY:+ Kazimiera Zajko - w 20 rocznicę śmierci, zmarli z rodziny Piotrowskich i Kusaków
UID:1506@https://lecze-salezjanie.pl/
DTSTART:20231001T103000
DTEND:20231001T103000
DTSTAMP:20260420T005336
CATEGORIES:Msza święta
LOCATION:Suchacz 82-340 Kielecka 14
GEO:54.2856461944789;19.44132685661316
DESCRIPTION:
URL:https://lecze-salezjanie.pl//component/djevents/details/2023-10-01/1506-kazimiera-zajko-w-20-rocznice-smierci-zmarli-z-rodziny-piotrowskich-i-kusakow
END:VEVENT
END:VCALENDAR
