BEGIN:VCALENDAR
VERSION:2.0
PRODID:-//https://lecze-salezjanie.pl///DJ-Events//EN
BEGIN:VEVENT
SUMMARY:+ zmarli rodzice Józefa i Alojzy Brunowicz
UID:1599@https://lecze-salezjanie.pl/
DTSTART:20231002T170000
DTEND:20231002T170000
DTSTAMP:20260419T230324
CATEGORIES:Msza święta
LOCATION:Suchacz 82-340 Kielecka 14
GEO:54.2856461944789;19.44132685661316
DESCRIPTION:
URL:https://lecze-salezjanie.pl//component/djevents/details/2023-10-02/1599-zmarli-rodzice-jozefa-i-alojzy-brunowicz
END:VEVENT
END:VCALENDAR
