BEGIN:VCALENDAR
VERSION:2.0
PRODID:-//https://lecze-salezjanie.pl///DJ-Events//EN
BEGIN:VEVENT
SUMMARY:O dary Bożej Miłości, zdrowie i nieustanną opiekę Matki Bożej dla Teresy Romanowskiej z okazji imienin
UID:1600@https://lecze-salezjanie.pl/
DTSTART:20231003T170000
DTEND:20231003T170000
DTSTAMP:20260419T230426
CATEGORIES:Msza święta
LOCATION:Suchacz 82-340 Kielecka 14
GEO:54.2856461944789;19.44132685661316
DESCRIPTION:
URL:https://lecze-salezjanie.pl//component/djevents/details/2023-10-03/1600-o-dary-bozej-milosci-zdrowie-i-nieustanna-opieke-matki-bozej-dla-teresy-romanowskiej-z-okazji-imienin
END:VEVENT
END:VCALENDAR
