BEGIN:VCALENDAR
VERSION:2.0
PRODID:-//https://lecze-salezjanie.pl///DJ-Events//EN
BEGIN:VEVENT
SUMMARY:+ Patrycjusz Kuszyk
UID:1652@https://lecze-salezjanie.pl/
DTSTART:20231004T170000
DTEND:20231004T170000
DTSTAMP:20260419T225557
CATEGORIES:Msza święta
LOCATION:Suchacz 82-340 Kielecka 14
GEO:54.2856461944789;19.44132685661316
DESCRIPTION:
URL:https://lecze-salezjanie.pl//component/djevents/details/2023-10-04/1652-patrycjusz-kuszyk
END:VEVENT
END:VCALENDAR
